BEGIN:VCALENDAR
VERSION:2.0
PRODID:icalendar-ruby
CALSCALE:GREGORIAN
METHOD:PUBLISH
BEGIN:VEVENT
DTSTAMP:20260424T135330Z
UID:164-2194624@ourredeemersandiego.org
DTSTART:20260531T190000Z
DTEND:20260531T200000Z
CLASS:PUBLIC
CREATED:20260423T110458
DESCRIPTION:
LAST-MODIFIED:20260423T110458
LOCATION:
SUMMARY:Congregational Meeting After Second Service
URL;VALUE=URI:https://www.ourredeemersandiego.com/events/congregational-mee
 ting-after-second-service/2026-05-31
END:VEVENT
END:VCALENDAR
